BEGIN:VCALENDAR
VERSION:2.0
PRODID:-//Свободна практика - ECPv6.0.13//NONSGML v1.0//EN
CALSCALE:GREGORIAN
METHOD:PUBLISH
X-WR-CALNAME:Свободна практика
X-ORIGINAL-URL:https://svobodnapraktika.com
X-WR-CALDESC:Events for Свободна практика
REFRESH-INTERVAL;VALUE=DURATION:PT1H
X-Robots-Tag:noindex
X-PUBLISHED-TTL:PT1H
BEGIN:VTIMEZONE
TZID:Europe/Helsinki
BEGIN:DAYLIGHT
TZOFFSETFROM:+0200
TZOFFSETTO:+0300
TZNAME:EEST
DTSTART:20260329T010000
END:DAYLIGHT
BEGIN:STANDARD
TZOFFSETFROM:+0300
TZOFFSETTO:+0200
TZNAME:EET
DTSTART:20261025T010000
END:STANDARD
END:VTIMEZONE
BEGIN:VEVENT
DTSTART;TZID=Europe/Helsinki:20260101T000000
DTEND;TZID=Europe/Helsinki:20261220T000000
DTSTAMP:20260423T022119
CREATED:20251207T220422Z
LAST-MODIFIED:20251207T220718Z
UID:18261-1767225600-1797724800@svobodnapraktika.com
SUMMARY:Пишете така\, че да ви четат: Не-бюлетинът на стратегическия копирайтър
DESCRIPTION:Трудно ти е да започнеш да пишеш\, а трябва – чакат те постове за социалните мрежи\, съдържанието на сайта ти\, статии. Непрекъснато се налага да пишеш кратки представяния на твоите продукти и услуги. Не ти е приятно да го правиш. Опитваш се да прехвърлиш цялата копирайтинг работа на ChatGPT или инструмент\, базиран на изкуствен интелект\, но не си сигурен\, че се получава добре. \nИма начин да промениш тази тегава ситуация. \nСъздай си нова нагласа към писането. Научи се да разпознаваш и разказваш истории\, които клиентите ти обичат да четат и споделят. Започни да пишеш увлекателно и убедително\, така че да превръщаш посетителите в клиенти. \nВъзможно е. \nПрегледай цялата програма на „Не-бюлетинът на стратегическия копирайтър“ – професионална система\, която комбинира различни\, ефективни елементи за обучение и практика и ти помага да развиеш 12 ключови умения за писане\, които да приложиш веднага.  \nЛектор\n\nИванка Могилска – копирайтър с 21 години опит\, основател и автор в блога „Свободна практика“.\n\n⇒ Ранно записване до 15 декември!
URL:https://svobodnapraktika.com/event/pishete-da-vi-chetat-ne-builetinat-strategicheski-copywriter
CATEGORIES:Онлайн събития
END:VEVENT
BEGIN:VEVENT
DTSTART;TZID=Europe/Helsinki:20260406T080000
DTEND;TZID=Europe/Helsinki:20260505T170000
DTSTAMP:20260423T022119
CREATED:20260330T063135Z
LAST-MODIFIED:20260330T063135Z
UID:18656-1775462400-1778000400@svobodnapraktika.com
SUMMARY:Инвестиции в злато - онлайн събитие
DESCRIPTION:През последните години все повече хора инвестират\, за да си осигурят пасивен доход. Българите често избират да инвестират не само в имоти и фондове\, но и в благородни метали. Златото остава сравнително стабилно по време на криза и инфлация\, ето защо интересът към него нараства през последните години. \nАко темата е интересна и за теб\, включи се в уебинара. По време на лекциите научаваш: \n\nкакво да избереш – злато или актив;\nкак да избегнеш основните рискове и грешки;\nкюлчета\, монети и нумизматика – каква е разликата.\n\nЧаст от лекциите са: \n\nЛиквидност.\nСъхранение на златото.\nСтратегии при инвестиране и др.\n\nВиж подробната програма в сайта на събитието. \nЗа кого е подходящо\n\nЗа всички\, които се интересуват от инвестиции в злато.\n\nЛектор\n\nКрум Атанасов се занимава с инвестиционно злато от над 15 години\, а през 2019 г. стартира собствен бизнес –  igold.bg.\n\nУчастието е с такса\, с предварителна регистрация. \n\nУебинарът е под формата на онлайн лекции\, до които имаш достъп за период от една година.\nМожеш да се включиш в курса по всяко време.
URL:https://svobodnapraktika.com/event/%d0%b8%d0%bd%d0%b2%d0%b5%d1%81%d1%82%d0%b8%d1%86%d0%b8%d0%b8-%d0%b2-%d0%b7%d0%bb%d0%b0%d1%82%d0%be-%d0%be%d0%bd%d0%bb%d0%b0%d0%b9%d0%bd-%d1%81%d1%8a%d0%b1%d0%b8%d1%82%d0%b8%d0%b5
CATEGORIES:Онлайн събития
ORGANIZER;CN="InvestPRO":MAILTO:admin@investpro.bg
END:VEVENT
BEGIN:VEVENT
DTSTART;TZID=Europe/Helsinki:20260423T180000
DTEND;TZID=Europe/Helsinki:20260423T190000
DTSTAMP:20260423T022119
CREATED:20260420T192738Z
LAST-MODIFIED:20260420T192738Z
UID:18822-1776967200-1776970800@svobodnapraktika.com
SUMMARY:Истории за лидери с Ивайло Кунев - събитие на живо
DESCRIPTION:Ако си почитател на Book Talks\, вероятно си чувал за книгата „Забравените истории на България. 7 урока за лидерство“. Написана е от Ивайло Кунев\, основният двигател на изданието. \nКнигата разказва реални истории на българи\, които са проявили предприемчивост и смелост в трудни исторически моменти. От всяка история авторът извежда урок по лидерство\, който можеш да приложиш и ти в някоя сфера на живота си. \nСъбитието отбелязва 10 години от издаването на аудиокнигата в Storytel. Включи се\, за да чуеш някои от най-забележителните истории на живо. \nЗа кого е подходящо събитието\n\nЗа всички\, които ценят мотивиращите книги.\n\nЛектор\n\nИвайло Кунев е създател на формата Book Talks. Той е български автор\, обучител и разказвач\, който се занимава с теми като лидерство\, личностно развитие и мотивация.\n\nУчастието е с такса\, с предварителна регистрация.
URL:https://svobodnapraktika.com/event/%d0%b8%d1%81%d1%82%d0%be%d1%80%d0%b8%d0%b8-%d0%b7%d0%b0-%d0%bb%d0%b8%d0%b4%d0%b5%d1%80%d0%b8-%d1%81-%d0%b8%d0%b2%d0%b0%d0%b9%d0%bb%d0%be-%d0%ba%d1%83%d0%bd%d0%b5%d0%b2-%d1%81%d1%8a%d0%b1%d0%b8%d1%82
LOCATION:Централен военен клуб\, бул. "Цар Освободител" 7\, София\, Bulgaria
CATEGORIES:София
ORGANIZER;CN="Book%20Talks":MAILTO:tanyaterziyska@gmail.com
END:VEVENT
END:VCALENDAR