BEGIN:VCALENDAR
VERSION:2.0
PRODID:-//Свободна практика - ECPv6.0.13//NONSGML v1.0//EN
CALSCALE:GREGORIAN
METHOD:PUBLISH
X-WR-CALNAME:Свободна практика
X-ORIGINAL-URL:https://svobodnapraktika.com
X-WR-CALDESC:Events for Свободна практика
REFRESH-INTERVAL;VALUE=DURATION:PT1H
X-Robots-Tag:noindex
X-PUBLISHED-TTL:PT1H
BEGIN:VTIMEZONE
TZID:Europe/Helsinki
BEGIN:DAYLIGHT
TZOFFSETFROM:+0200
TZOFFSETTO:+0300
TZNAME:EEST
DTSTART:20260329T010000
END:DAYLIGHT
BEGIN:STANDARD
TZOFFSETFROM:+0300
TZOFFSETTO:+0200
TZNAME:EET
DTSTART:20261025T010000
END:STANDARD
END:VTIMEZONE
BEGIN:VEVENT
DTSTART;TZID=Europe/Helsinki:20260101T000000
DTEND;TZID=Europe/Helsinki:20261220T000000
DTSTAMP:20260426T025227
CREATED:20251207T220422Z
LAST-MODIFIED:20251207T220718Z
UID:18261-1767225600-1797724800@svobodnapraktika.com
SUMMARY:Пишете така\, че да ви четат: Не-бюлетинът на стратегическия копирайтър
DESCRIPTION:Трудно ти е да започнеш да пишеш\, а трябва – чакат те постове за социалните мрежи\, съдържанието на сайта ти\, статии. Непрекъснато се налага да пишеш кратки представяния на твоите продукти и услуги. Не ти е приятно да го правиш. Опитваш се да прехвърлиш цялата копирайтинг работа на ChatGPT или инструмент\, базиран на изкуствен интелект\, но не си сигурен\, че се получава добре. \nИма начин да промениш тази тегава ситуация. \nСъздай си нова нагласа към писането. Научи се да разпознаваш и разказваш истории\, които клиентите ти обичат да четат и споделят. Започни да пишеш увлекателно и убедително\, така че да превръщаш посетителите в клиенти. \nВъзможно е. \nПрегледай цялата програма на „Не-бюлетинът на стратегическия копирайтър“ – професионална система\, която комбинира различни\, ефективни елементи за обучение и практика и ти помага да развиеш 12 ключови умения за писане\, които да приложиш веднага.  \nЛектор\n\nИванка Могилска – копирайтър с 21 години опит\, основател и автор в блога „Свободна практика“.\n\n⇒ Ранно записване до 15 декември!
URL:https://svobodnapraktika.com/event/pishete-da-vi-chetat-ne-builetinat-strategicheski-copywriter
CATEGORIES:Онлайн събития
END:VEVENT
BEGIN:VEVENT
DTSTART;VALUE=DATE:20260319
DTEND;VALUE=DATE:20260320
DTSTAMP:20260426T025227
CREATED:20260222T162104Z
LAST-MODIFIED:20260222T162104Z
UID:18532-1773878400-1773964799@svobodnapraktika.com
SUMMARY:Forbes Sustainability Forum – форум на живо
DESCRIPTION:Какви са предизвикателствата пред бизнеса по отношение на устойчивото развитие? И как климатичните промени влияят на бизнеса във времена на икономическа несигурност? Форумът среща организации с лидери\, за да потърсят заедно решения на настоящите проблеми. \nСъбитието е разделено на три панела: \n\nчиста и устойчива енергетика;\nбизнесът и зеленият преход;\nкръгова икономика.\n\nЧаст от темите\, които се дискутират\, са: \n\nСлънце\, вятър и живот: Енергия с грижа за природата\nМоже ли старото ИТ оборудване да носи печалба?\nВтори живот на електронните устройства\n\nКакво получаваш\, ако се включиш: \n\n1:1 интервюта и дискусии;\nдостъп до лекции;\nдостъп до записите след събитието.\n\nЗа кого е подходящо\n\nЗа предприемачи\, собственици на бизнес и всички\, които се интересуват от устойчивото развитие.\n\nЛектори\n\nЛекторите са експерти в различни области\, повече за тях научи от сайта на събитието.\n\nСъбитието е с такса\, с предварителна регистрация.
URL:https://svobodnapraktika.com/event/forbes-sustainability-forum-%d1%84%d0%be%d1%80%d1%83%d0%bc-%d0%bd%d0%b0-%d0%b6%d0%b8%d0%b2%d0%be
LOCATION:Joy station\, Улица Академик Стефан Младенов 3\, София\, Bulgaria
END:VEVENT
BEGIN:VEVENT
DTSTART;TZID=Europe/Helsinki:20260319T190000
DTEND;TZID=Europe/Helsinki:20260319T210000
DTSTAMP:20260426T025227
CREATED:20260222T161958Z
LAST-MODIFIED:20260222T161958Z
UID:18530-1773946800-1773954000@svobodnapraktika.com
SUMMARY:Как да развиваме правилно социалните си мрежи през 2026 – уебинар
DESCRIPTION:Развиваш бизнес онлайн и сам поддържаш каналите в социалните мрежи. Виждаш обаче\, че нещата често не се случват по планирания начин. \nИнтернет средата е изключително динамична\, а алгоритмите на социалните мрежи се променят непрекъснато. Ето защо е важно да следиш тенденциите и да реагираш\, когато видиш\, че идеите ти не дават резултат. Да\, често е въпрос на пробра и грешка\, но ако имаш представа за това кое работи в момента\, ще можеш по-лесно да се адаптираш спрямо ситуацията. \nВключи се в събитието\, за да разбереш как да задържаш вниманието на потребителите и да достигаш до по-голяма аудитория към настоящия момент. \nОт лектора научаваш как да: \n\nизградиш профил\, който обучава алгоритъма да му съдейства;\nвзаимодействаш с последователите си;\nсъздаваш видеа\, които имат хиляди преглеждания и др.\n\nВиж програмата\, за да разбереш с какво още е полезно събитието. \nЗа кого е подходящо\n\nЗа всички\, които се стремят към присъствие в Тик-Ток и Инстаграм.\n\nЛектор\n\nСимона Косева е собственик на агенция за графичен дизайн Diamante. В продължение на 3 години брандира „Арена на дамския бизнес“\, а миналия месец агенцията ѝ брандира и заснема конференцията „Майстор в продажбите“\, с над 600 гости.\n\nУчастието е без такса\, с предварителна регистрация. \n 
URL:https://svobodnapraktika.com/event/%d0%ba%d0%b0%d0%ba-%d0%b4%d0%b0-%d1%80%d0%b0%d0%b7%d0%b2%d0%b8%d0%b2%d0%b0%d0%bc%d0%b5-%d0%bf%d1%80%d0%b0%d0%b2%d0%b8%d0%bb%d0%bd%d0%be-%d1%81%d0%be%d1%86%d0%b8%d0%b0%d0%bb%d0%bd%d0%b8%d1%82%d0%b5
CATEGORIES:Онлайн събития
ORGANIZER;CN="SoftUni%20Digital":MAILTO:digital@softuni.bg
END:VEVENT
END:VCALENDAR