BEGIN:VCALENDAR
VERSION:2.0
PRODID:-//Свободна практика - ECPv6.0.13//NONSGML v1.0//EN
CALSCALE:GREGORIAN
METHOD:PUBLISH
X-WR-CALNAME:Свободна практика
X-ORIGINAL-URL:https://svobodnapraktika.com
X-WR-CALDESC:Events for Свободна практика
REFRESH-INTERVAL;VALUE=DURATION:PT1H
X-Robots-Tag:noindex
X-PUBLISHED-TTL:PT1H
BEGIN:VTIMEZONE
TZID:Europe/Helsinki
BEGIN:DAYLIGHT
TZOFFSETFROM:+0200
TZOFFSETTO:+0300
TZNAME:EEST
DTSTART:20260329T010000
END:DAYLIGHT
BEGIN:STANDARD
TZOFFSETFROM:+0300
TZOFFSETTO:+0200
TZNAME:EET
DTSTART:20261025T010000
END:STANDARD
END:VTIMEZONE
BEGIN:VEVENT
DTSTART;TZID=Europe/Helsinki:20260101T000000
DTEND;TZID=Europe/Helsinki:20261220T000000
DTSTAMP:20260426T025227
CREATED:20251207T220422Z
LAST-MODIFIED:20251207T220718Z
UID:18261-1767225600-1797724800@svobodnapraktika.com
SUMMARY:Пишете така\, че да ви четат: Не-бюлетинът на стратегическия копирайтър
DESCRIPTION:Трудно ти е да започнеш да пишеш\, а трябва – чакат те постове за социалните мрежи\, съдържанието на сайта ти\, статии. Непрекъснато се налага да пишеш кратки представяния на твоите продукти и услуги. Не ти е приятно да го правиш. Опитваш се да прехвърлиш цялата копирайтинг работа на ChatGPT или инструмент\, базиран на изкуствен интелект\, но не си сигурен\, че се получава добре. \nИма начин да промениш тази тегава ситуация. \nСъздай си нова нагласа към писането. Научи се да разпознаваш и разказваш истории\, които клиентите ти обичат да четат и споделят. Започни да пишеш увлекателно и убедително\, така че да превръщаш посетителите в клиенти. \nВъзможно е. \nПрегледай цялата програма на „Не-бюлетинът на стратегическия копирайтър“ – професионална система\, която комбинира различни\, ефективни елементи за обучение и практика и ти помага да развиеш 12 ключови умения за писане\, които да приложиш веднага.  \nЛектор\n\nИванка Могилска – копирайтър с 21 години опит\, основател и автор в блога „Свободна практика“.\n\n⇒ Ранно записване до 15 декември!
URL:https://svobodnapraktika.com/event/pishete-da-vi-chetat-ne-builetinat-strategicheski-copywriter
CATEGORIES:Онлайн събития
END:VEVENT
BEGIN:VEVENT
DTSTART;VALUE=DATE:20260215
DTEND;VALUE=DATE:20260216
DTSTAMP:20260426T025227
CREATED:20260130T114540Z
LAST-MODIFIED:20260130T114540Z
UID:18456-1771113600-1771199999@svobodnapraktika.com
SUMMARY:Уроци от провали – на какво ще ни научат грешките – среща на живо
DESCRIPTION:Ако развиваш собствен бизнес\, най-вероятно си се включвал в събития с гост-лектори предприемачи. Или слушаш подкасти и гледаш интервюта\, където намираш своето вдъхновение. Знаеш ли\, че Столична община стартира инициатива – поредица от срещи с успешни българи. Следващата се провежда в средата на февруари. \nВключи се\, за да чуеш историята на Александър Найденов – търговски директор и директор „Партньорства за Северна Европа“ на компанията Hygraph\, Германия. \nЛекторът споделя с теб провалите и уроците\, които са се оказали ключови за професионалното му развитие. \nЗа кого е подходящо\n\nЗа всички\, които имат интерес към предприемачеството.\n\nУчастието е със свободен достъп\, не е необходима предварителна регистрация. \n 
URL:https://svobodnapraktika.com/event/%d1%83%d1%80%d0%be%d1%86%d0%b8-%d0%be%d1%82-%d0%bf%d1%80%d0%be%d0%b2%d0%b0%d0%bb%d0%b8-%d0%bd%d0%b0-%d0%ba%d0%b0%d0%ba%d0%b2%d0%be-%d1%89%d0%b5-%d0%bd%d0%b8-%d0%bd%d0%b0%d1%83%d1%87%d0%b0
LOCATION:Централни хали\, Мария Луиза 25\, София
END:VEVENT
BEGIN:VEVENT
DTSTART;TZID=Europe/Helsinki:20260215T130000
DTEND;TZID=Europe/Helsinki:20260215T150000
DTSTAMP:20260426T025227
CREATED:20260211T135440Z
LAST-MODIFIED:20260211T135440Z
UID:18504-1771160400-1771167600@svobodnapraktika.com
SUMMARY:Как се пише CV & Мотивационно писмо – събитие във Варна
DESCRIPTION:Търсиш своята първа работа или стаж? Завършил си училище\, университет или все още си в процес на обучение и упорито се оглеждаш за мястото\, от което да стартира кариерният ти път. Как обаче да грабнеш вниманието? Как да структурираш CV-то си така\, че да те поканят на интервю? \nПосети събитието\, за да разбереш: \n\nкакво да включиш\, за да се отличиш сред кандидатите;\nкак да напишеш смислено и същевременно кратко мотивационно писмо.\n\nПо време на срещата преминаваш през различни ситуации и виждаш как да се изразяваш уверено и спокойно пред непознати. \nЗа кого е подходящо събитието\n\nЗа младежи между 16 и 26 години.\n\nУчастието е без такса\, с предварителна регистрация. \nПобързай\, броят на местата е ограничен.
URL:https://svobodnapraktika.com/event/%d0%ba%d0%b0%d0%ba-%d1%81%d0%b5-%d0%bf%d0%b8%d1%88%d0%b5-cv-%d0%bc%d0%be%d1%82%d0%b8%d0%b2%d0%b0%d1%86%d0%b8%d0%be%d0%bd%d0%bd%d0%be-%d0%bf%d0%b8%d1%81%d0%bc%d0%be-%d1%81%d1%8a%d0%b1
LOCATION:The Social Teahouse\, ул. Преслав 53\, Варна
CATEGORIES:Варна
ORGANIZER;CN="The%20Social%20Teahouse":MAILTO:info@thesocialteahouse.bg
END:VEVENT
END:VCALENDAR